BEGIN:VCALENDAR
VERSION:2.0
PRODID:-//Library Market//iCal Export//EN
BEGIN:VEVENT
SUMMARY:Legacy
UID:8505
DTSTAMP:20260421T052200Z
DTSTART:20261007T164500Z
DTEND:20261007T210000Z
LOCATION:Winfield Public Library, 605 College St., Winfield, KS 67156, Uni
 ted States
ROOM: Community Room
DESCRIPTION:Committee Meeting
URL:https://wpl.librarymarket.com/reservation/legacy-1
END:VEVENT
END:VCALENDAR
