BEGIN:VCALENDAR
VERSION:2.0
PRODID:-//Library Market//iCal Export//EN
BEGIN:VEVENT
SUMMARY:Author Visit:  Veda Rogers, &quot;A Grand Day&quot;
UID:8411
DTSTAMP:20260424T120400Z
DTSTART:20260507T150000Z
DTEND:20260507T163000Z
LOCATION:Winfield Public Library, 605 College St., Winfield, KS 67156, Uni
 ted States
ROOM: Community Room
DESCRIPTION:WPL is pleased to host Veda Rogers to share about her book, A 
 Grand Day:  The Forgotten Voice of a Farm Woman Through Dust, Depression,
  and War, a rare and moving collection that captures the daily life, labor
 , and resilience of a Kansas farm woman during some of the most difficult 
 decades of the twentieth century.A Grand Day presents the diaries of Louis
 a &quot;Lulu&quot; Ehrichs Schwanbeck, who chronicled her life on a wester
 n Kansas farm during the Great Depression, the Dust Bowl, and World War II
 . Beginning in 1935, Lulu records not only the relentless demands of farm 
 work but also extraordinary personal trials, including severe burns, a can
 cer diagnosis, and the loss of her husband.By 1940 Lulu was a widowed woma
 n in her early sixties, managing the business and labor of a large, fully 
 mortgaged family farm. Her entries reveal a hardworking, capable, and dete
 rmined farmer who met hardship with resolve, humor, and a deep sense of co
 mmunity. Despite exhaustion and uncertainty, she consistently found moment
 s of satisfaction and joy, often closing her diary with the same simple ph
 rase: &quot;A grand day.&quot;Veda Rogers enjoyed a varied career as house
 wife, mother, singer, voice instructor, actress, and bank officer. She and
  her husband, Bruce Rogers, lived in Winfield in the 1960s and 70s.
URL:https://wpl.librarymarket.com/index.php/event/author-visit-veda-rogers
 -grand-day
END:VEVENT
END:VCALENDAR
